BEGIN:VCALENDAR
VERSION:2.0
PRODID:-//Restoration Vineyards - ECPv6.15.20//NONSGML v1.0//EN
CALSCALE:GREGORIAN
METHOD:PUBLISH
X-WR-CALNAME:Restoration Vineyards
X-ORIGINAL-URL:https://restorationvineyards.com
X-WR-CALDESC:Events for Restoration Vineyards
REFRESH-INTERVAL;VALUE=DURATION:PT1H
X-Robots-Tag:noindex
X-PUBLISHED-TTL:PT1H
BEGIN:VTIMEZONE
TZID:America/Denver
BEGIN:DAYLIGHT
TZOFFSETFROM:-0700
TZOFFSETTO:-0600
TZNAME:MDT
DTSTART:20250309T090000
END:DAYLIGHT
BEGIN:STANDARD
TZOFFSETFROM:-0600
TZOFFSETTO:-0700
TZNAME:MST
DTSTART:20251102T080000
END:STANDARD
BEGIN:DAYLIGHT
TZOFFSETFROM:-0700
TZOFFSETTO:-0600
TZNAME:MDT
DTSTART:20260308T090000
END:DAYLIGHT
BEGIN:STANDARD
TZOFFSETFROM:-0600
TZOFFSETTO:-0700
TZNAME:MST
DTSTART:20261101T080000
END:STANDARD
BEGIN:DAYLIGHT
TZOFFSETFROM:-0700
TZOFFSETTO:-0600
TZNAME:MDT
DTSTART:20270314T090000
END:DAYLIGHT
BEGIN:STANDARD
TZOFFSETFROM:-0600
TZOFFSETTO:-0700
TZNAME:MST
DTSTART:20271107T080000
END:STANDARD
END:VTIMEZONE
BEGIN:VEVENT
DTSTART;TZID=America/Denver:20260102T150000
DTEND;TZID=America/Denver:20260102T190000
DTSTAMP:20260423T080437
CREATED:20260101T221711Z
LAST-MODIFIED:20260101T221918Z
UID:10000721-1767366000-1767380400@restorationvineyards.com
SUMMARY:El Rey Food Truck
DESCRIPTION:Join us for our weekly “Wine Down” Friday featuring El Rey Mexican Food Truck this week.  They are a local favorite with fresh\, delicious and authentic Mexican cuisine.  We also offer a Happy Hour from 4pm-6pm with select wines by the glass available at a discount. Bottomless S’mores are also offered for $5/person!
URL:https://restorationvineyards.com/event/el-rey-food-truck/
LOCATION:Restoration Vineyards Tasting Room\, 3594 E 1/2 Rd\, Palisade\, CO\, 81526\, United States
CATEGORIES:Food Truck
ATTACH;FMTTYPE=image/png:https://restorationvineyards.com/wp-content/uploads/2026/01/Copy-of-Copy-of-Wine-Down-Fridays-3.png
END:VEVENT
BEGIN:VEVENT
DTSTART;TZID=America/Denver:20260103T110000
DTEND;TZID=America/Denver:20260103T170000
DTSTAMP:20260423T080437
CREATED:20260101T221815Z
LAST-MODIFIED:20260101T221815Z
UID:10000722-1767438000-1767459600@restorationvineyards.com
SUMMARY:El Rey Food Truck
DESCRIPTION:
URL:https://restorationvineyards.com/event/el-rey-food-truck-2/
LOCATION:Restoration Vineyards Tasting Room\, 3594 E 1/2 Rd\, Palisade\, CO\, 81526\, United States
CATEGORIES:Food Truck
ATTACH;FMTTYPE=image/jpeg:https://restorationvineyards.com/wp-content/uploads/2024/07/426195823_329995506702588_1862956852707305958_n.jpg
END:VEVENT
BEGIN:VEVENT
DTSTART;TZID=America/Denver:20260105T173000
DTEND;TZID=America/Denver:20260105T210000
DTSTAMP:20260423T080437
CREATED:20251029T221443Z
LAST-MODIFIED:20260320T221122Z
UID:10000718-1767634200-1767646800@restorationvineyards.com
SUMMARY:Wizards & Wine with Theater of the Mind at Restoration Vineyards
DESCRIPTION:5:30-9:00pm \n\nAn evening of fantasy\, fine wine\, and unforgettable adventure\, a perfect time to dress up too!!\nJoin us at Restoration Vineyards for Wizards & Wine—a unique tabletop gaming experience where the worlds of storytelling and sipping collide. Set against the backdrop of our scenic Colorado winery\, guests will embark on a 2–3 hour Dungeons & Dragons adventure led by professional Dungeon Masters from Theater of The Mind.\nWhether you’re a lifelong player or brand new to the game\, our tables are designed for flexible\, drop-in play with no long-term commitment. Each table seats up to five players and uses the 2014 edition of D&D 5e rules for a streamlined\, immersive experience.\nNo need to prepare ahead—players will choose from a selection of pre-generated characters\, each ready to dive into the adventure. Just bring your imagination and let the story unfold.\n– Enjoy our handcrafted wines while you play\n– Professional Dungeon Masters at every table\n– No experience necessary—perfect for first-timers and veterans alike\n– Each session lasts 2–3 hours\n– $15 per person\nReservations are required to ensure we have enough Dungeon Masters for all players. Spots are limited\, so book early to secure your seat at the table. We keep our wines at dungeon temperatures\, so dress warm. No outside alcohol allowed.\n\nReserve Here
URL:https://restorationvineyards.com/event/wizards-wine-with-theater-of-the-mind-at-restoration-vineyards-2/2026-01-05/
LOCATION:Restoration Vineyards Tasting Room\, 3594 E 1/2 Rd\, Palisade\, CO\, 81526\, United States
CATEGORIES:Educational Experience,Ticketed Event,Wine Tasting
ATTACH;FMTTYPE=image/png:https://restorationvineyards.com/wp-content/uploads/2025/10/Copy-of-Wizards-WIne.png
END:VEVENT
BEGIN:VEVENT
DTSTART;TZID=America/Denver:20260109T150000
DTEND;TZID=America/Denver:20260109T190000
DTSTAMP:20260423T080437
CREATED:20260104T192316Z
LAST-MODIFIED:20260130T202936Z
UID:10000738-1767970800-1767985200@restorationvineyards.com
SUMMARY:Wine Down Friday - Hunger Tech
DESCRIPTION:Join us for our weekly “Wine Down” Friday featuring Hunger Tech Food Truck this week.  They are a specialize in smash burgers and gourmet hot dogs.  We also offer a Happy Hour from 4pm-6pm with select wines by the glass available at a discount. Bottomless S’mores offered for just $5 per person \n‘
URL:https://restorationvineyards.com/event/wine-down-friday-hunger-tech/2026-01-09/
LOCATION:Restoration Vineyards Tasting Room\, 3594 E 1/2 Rd\, Palisade\, CO\, 81526\, United States
CATEGORIES:Food Truck
ATTACH;FMTTYPE=image/png:https://restorationvineyards.com/wp-content/uploads/2026/01/Hunger-Tech-Wine-Down-Fridays.png
END:VEVENT
BEGIN:VEVENT
DTSTART;TZID=America/Denver:20260110T110000
DTEND;TZID=America/Denver:20260110T170000
DTSTAMP:20260423T080437
CREATED:20260104T191201Z
LAST-MODIFIED:20260104T191201Z
UID:10000731-1768042800-1768064400@restorationvineyards.com
SUMMARY:Hunger Tech Food Truck
DESCRIPTION:
URL:https://restorationvineyards.com/event/hunger-tech-food-truck-3/2026-01-10/
LOCATION:Restoration Vineyards Tasting Room\, 3594 E 1/2 Rd\, Palisade\, CO\, 81526\, United States
CATEGORIES:Food Truck
ATTACH;FMTTYPE=image/jpeg:https://restorationvineyards.com/wp-content/uploads/2024/07/376275114_122116956536022756_3696008875586786850_n.jpg
END:VEVENT
BEGIN:VEVENT
DTSTART;TZID=America/Denver:20260116T150000
DTEND;TZID=America/Denver:20260116T190000
DTSTAMP:20260423T080437
CREATED:20260104T192316Z
LAST-MODIFIED:20260130T202936Z
UID:10000739-1768575600-1768590000@restorationvineyards.com
SUMMARY:Wine Down Friday - Hunger Tech
DESCRIPTION:Join us for our weekly “Wine Down” Friday featuring Hunger Tech Food Truck this week.  They are a specialize in smash burgers and gourmet hot dogs.  We also offer a Happy Hour from 4pm-6pm with select wines by the glass available at a discount. Bottomless S’mores offered for just $5 per person \n‘
URL:https://restorationvineyards.com/event/wine-down-friday-hunger-tech/2026-01-16/
LOCATION:Restoration Vineyards Tasting Room\, 3594 E 1/2 Rd\, Palisade\, CO\, 81526\, United States
CATEGORIES:Food Truck
ATTACH;FMTTYPE=image/png:https://restorationvineyards.com/wp-content/uploads/2026/01/Hunger-Tech-Wine-Down-Fridays.png
END:VEVENT
BEGIN:VEVENT
DTSTART;TZID=America/Denver:20260117T110000
DTEND;TZID=America/Denver:20260117T170000
DTSTAMP:20260423T080437
CREATED:20260104T191201Z
LAST-MODIFIED:20260104T191201Z
UID:10000732-1768647600-1768669200@restorationvineyards.com
SUMMARY:Hunger Tech Food Truck
DESCRIPTION:
URL:https://restorationvineyards.com/event/hunger-tech-food-truck-3/2026-01-17/
LOCATION:Restoration Vineyards Tasting Room\, 3594 E 1/2 Rd\, Palisade\, CO\, 81526\, United States
CATEGORIES:Food Truck
ATTACH;FMTTYPE=image/jpeg:https://restorationvineyards.com/wp-content/uploads/2024/07/376275114_122116956536022756_3696008875586786850_n.jpg
END:VEVENT
BEGIN:VEVENT
DTSTART;TZID=America/Denver:20260119T173000
DTEND;TZID=America/Denver:20260119T210000
DTSTAMP:20260423T080437
CREATED:20251029T221443Z
LAST-MODIFIED:20260320T221122Z
UID:10000719-1768843800-1768856400@restorationvineyards.com
SUMMARY:Wizards & Wine with Theater of the Mind at Restoration Vineyards
DESCRIPTION:5:30-9:00pm \n\nAn evening of fantasy\, fine wine\, and unforgettable adventure\, a perfect time to dress up too!!\nJoin us at Restoration Vineyards for Wizards & Wine—a unique tabletop gaming experience where the worlds of storytelling and sipping collide. Set against the backdrop of our scenic Colorado winery\, guests will embark on a 2–3 hour Dungeons & Dragons adventure led by professional Dungeon Masters from Theater of The Mind.\nWhether you’re a lifelong player or brand new to the game\, our tables are designed for flexible\, drop-in play with no long-term commitment. Each table seats up to five players and uses the 2014 edition of D&D 5e rules for a streamlined\, immersive experience.\nNo need to prepare ahead—players will choose from a selection of pre-generated characters\, each ready to dive into the adventure. Just bring your imagination and let the story unfold.\n– Enjoy our handcrafted wines while you play\n– Professional Dungeon Masters at every table\n– No experience necessary—perfect for first-timers and veterans alike\n– Each session lasts 2–3 hours\n– $15 per person\nReservations are required to ensure we have enough Dungeon Masters for all players. Spots are limited\, so book early to secure your seat at the table. We keep our wines at dungeon temperatures\, so dress warm. No outside alcohol allowed.\n\nReserve Here
URL:https://restorationvineyards.com/event/wizards-wine-with-theater-of-the-mind-at-restoration-vineyards-2/2026-01-19/
LOCATION:Restoration Vineyards Tasting Room\, 3594 E 1/2 Rd\, Palisade\, CO\, 81526\, United States
CATEGORIES:Educational Experience,Ticketed Event,Wine Tasting
ATTACH;FMTTYPE=image/png:https://restorationvineyards.com/wp-content/uploads/2025/10/Copy-of-Wizards-WIne.png
END:VEVENT
BEGIN:VEVENT
DTSTART;TZID=America/Denver:20260123T150000
DTEND;TZID=America/Denver:20260123T190000
DTSTAMP:20260423T080437
CREATED:20260104T192316Z
LAST-MODIFIED:20260130T202936Z
UID:10000740-1769180400-1769194800@restorationvineyards.com
SUMMARY:Wine Down Friday - Hunger Tech
DESCRIPTION:Join us for our weekly “Wine Down” Friday featuring Hunger Tech Food Truck this week.  They are a specialize in smash burgers and gourmet hot dogs.  We also offer a Happy Hour from 4pm-6pm with select wines by the glass available at a discount. Bottomless S’mores offered for just $5 per person \n‘
URL:https://restorationvineyards.com/event/wine-down-friday-hunger-tech/2026-01-23/
LOCATION:Restoration Vineyards Tasting Room\, 3594 E 1/2 Rd\, Palisade\, CO\, 81526\, United States
CATEGORIES:Food Truck
ATTACH;FMTTYPE=image/png:https://restorationvineyards.com/wp-content/uploads/2026/01/Hunger-Tech-Wine-Down-Fridays.png
END:VEVENT
BEGIN:VEVENT
DTSTART;TZID=America/Denver:20260124T110000
DTEND;TZID=America/Denver:20260124T170000
DTSTAMP:20260423T080437
CREATED:20260104T191201Z
LAST-MODIFIED:20260104T191201Z
UID:10000733-1769252400-1769274000@restorationvineyards.com
SUMMARY:Hunger Tech Food Truck
DESCRIPTION:
URL:https://restorationvineyards.com/event/hunger-tech-food-truck-3/2026-01-24/
LOCATION:Restoration Vineyards Tasting Room\, 3594 E 1/2 Rd\, Palisade\, CO\, 81526\, United States
CATEGORIES:Food Truck
ATTACH;FMTTYPE=image/jpeg:https://restorationvineyards.com/wp-content/uploads/2024/07/376275114_122116956536022756_3696008875586786850_n.jpg
END:VEVENT
BEGIN:VEVENT
DTSTART;TZID=America/Denver:20260130T150000
DTEND;TZID=America/Denver:20260130T190000
DTSTAMP:20260423T080437
CREATED:20260104T192316Z
LAST-MODIFIED:20260130T202936Z
UID:10000741-1769785200-1769799600@restorationvineyards.com
SUMMARY:Wine Down Friday - Hunger Tech
DESCRIPTION:Join us for our weekly “Wine Down” Friday featuring Hunger Tech Food Truck this week.  They are a specialize in smash burgers and gourmet hot dogs.  We also offer a Happy Hour from 4pm-6pm with select wines by the glass available at a discount. Bottomless S’mores offered for just $5 per person \n‘
URL:https://restorationvineyards.com/event/wine-down-friday-hunger-tech/2026-01-30/
LOCATION:Restoration Vineyards Tasting Room\, 3594 E 1/2 Rd\, Palisade\, CO\, 81526\, United States
CATEGORIES:Food Truck
ATTACH;FMTTYPE=image/png:https://restorationvineyards.com/wp-content/uploads/2026/01/Hunger-Tech-Wine-Down-Fridays.png
END:VEVENT
END:VCALENDAR