BEGIN:VCALENDAR
VERSION:2.0
PRODID:-//Restoration Vineyards - ECPv6.15.20//NONSGML v1.0//EN
CALSCALE:GREGORIAN
METHOD:PUBLISH
X-WR-CALNAME:Restoration Vineyards
X-ORIGINAL-URL:https://restorationvineyards.com
X-WR-CALDESC:Events for Restoration Vineyards
REFRESH-INTERVAL;VALUE=DURATION:PT1H
X-Robots-Tag:noindex
X-PUBLISHED-TTL:PT1H
BEGIN:VTIMEZONE
TZID:America/Denver
BEGIN:DAYLIGHT
TZOFFSETFROM:-0700
TZOFFSETTO:-0600
TZNAME:MDT
DTSTART:20250309T090000
END:DAYLIGHT
BEGIN:STANDARD
TZOFFSETFROM:-0600
TZOFFSETTO:-0700
TZNAME:MST
DTSTART:20251102T080000
END:STANDARD
BEGIN:DAYLIGHT
TZOFFSETFROM:-0700
TZOFFSETTO:-0600
TZNAME:MDT
DTSTART:20260308T090000
END:DAYLIGHT
BEGIN:STANDARD
TZOFFSETFROM:-0600
TZOFFSETTO:-0700
TZNAME:MST
DTSTART:20261101T080000
END:STANDARD
BEGIN:DAYLIGHT
TZOFFSETFROM:-0700
TZOFFSETTO:-0600
TZNAME:MDT
DTSTART:20270314T090000
END:DAYLIGHT
BEGIN:STANDARD
TZOFFSETFROM:-0600
TZOFFSETTO:-0700
TZNAME:MST
DTSTART:20271107T080000
END:STANDARD
END:VTIMEZONE
BEGIN:VEVENT
DTSTART;TZID=America/Denver:20260801T130000
DTEND;TZID=America/Denver:20260801T170000
DTSTAMP:20260421T022158
CREATED:20260408T195943Z
LAST-MODIFIED:20260409T170520Z
UID:10000883-1785589200-1785603600@restorationvineyards.com
SUMMARY:80z AM - Band in the Barrel Music Series
DESCRIPTION:Important Details\nSeatingWe invite you to settle in and stay awhile—feel free to bring blankets or lawn chairs to enjoy the wine\, music\, and food. While we’ll have some shaded areas available\, seating and shade are first-come\, first-served and cannot be guaranteed. \nReservationsYour reservation guarantees admission to the venue along with a 90-minute experience. Please select your preferred time slot: 1:00–2:30 PM or 3:30–5:00 PM.To ensure we can accommodate all guests\, we kindly ask that you join us for one seating per day. \nParkingParking on-site is limited\, so we highly encourage carpooling whenever possible. \nFood & DrinkTo help support our local partners and elevate your experience\, we kindly ask that outside food and alcohol not be brought in. Each concert features at least two fantastic food trucks\, offering a variety of delicious options to enjoy alongside your wine. \nWine ServiceDuring live music\, we offer wine by the glass or bottle only so we can best serve all of our guests. Tastings will pause during this time. \nRESERVE NOWEighties Adventure Movie or 80zAM is a family rock band from Colorado. \nRESERVE NOWWelcome to RoseBear’s BBQ \nExperience the best slow-smoked meats and authentic BBQ flavors on the western slope\, that will make your taste buds dance with joy. \nEverything we make is from scratch coming off our stick burner offset pit! \nServing panini sandwiches in Grand Junction and the surrounding area! \nRESERVE NOW
URL:https://restorationvineyards.com/event/80z-am-band-in-the-barrel-music-series/
LOCATION:Restoration Vineyards Tasting Room\, 3594 E 1/2 Rd\, Palisade\, CO\, 81526\, United States
CATEGORIES:Food Truck,Live Music,Wine Tasting
ATTACH;FMTTYPE=image/png:https://restorationvineyards.com/wp-content/uploads/2026/04/80z-AM-Square-2.png
END:VEVENT
BEGIN:VEVENT
DTSTART;TZID=America/Denver:20260807T150000
DTEND;TZID=America/Denver:20260807T200000
DTSTAMP:20260421T022158
CREATED:20260331T164350Z
LAST-MODIFIED:20260331T164350Z
UID:10000803-1786114800-1786132800@restorationvineyards.com
SUMMARY:Wine Down Fridays - Pali-Thai
DESCRIPTION:Join us for our weekly “Wine Down” Friday featuring Pali-Thai Food Truck this week.  They are a local favorite with fresh\, delicious and authentic Thai cuisine.  We also offer a Happy Hour from 4pm-6pm with select wines by the glass available at a discount. \nAll seating is first come first serve and no seats will be reserved. \nWe started Pali Thai out of a tent at the Palisade Farmer’s Market in the fall of 2020 with the intent of bringing authentic Thai food to our community.  \nChiranut (Pam) is the heart and soul of Pali Thai. She was born and raised in the Aranyaprathet Region of Thailand where she learned to create authentic cuisine using traditional methods and local ingredients from the surrounding farms. Pam’s family still lives and farms on their ancestral lands. \n​Mike is a forth generation Coloradoan who talks too much and says too little. \n​We live on our small farm with a huge garden and lots of animals in Palisade\, Colorado.
URL:https://restorationvineyards.com/event/wine-down-fridays-pali-thai-4/2026-08-07/
LOCATION:Restoration Vineyards Tasting Room\, 3594 E 1/2 Rd\, Palisade\, CO\, 81526\, United States
CATEGORIES:Food Truck,Wine Tasting
ATTACH;FMTTYPE=image/png:https://restorationvineyards.com/wp-content/uploads/2025/04/Copy-of-Spring-Wine-Down-Fridays-2.png
END:VEVENT
BEGIN:VEVENT
DTSTART;TZID=America/Denver:20260808T130000
DTEND;TZID=America/Denver:20260808T170000
DTSTAMP:20260421T022159
CREATED:20260417T164654Z
LAST-MODIFIED:20260417T165148Z
UID:10000895-1786194000-1786208400@restorationvineyards.com
SUMMARY:Uncle Padre - Band in the Barrel Music Series
DESCRIPTION:Important Details\nSeatingWe invite you to settle in and stay awhile—feel free to bring blankets or lawn chairs to enjoy the wine\, music\, and food. While we’ll have some shaded areas available\, seating and shade are first-come\, first-served and cannot be guaranteed. \nReservationsYour reservation guarantees admission to the venue along with a 90-minute experience. Please select your preferred time slot: 1:00–2:30 PM or 3:30–5:00 PM.To ensure we can accommodate all guests\, we kindly ask that you join us for one seating per day. \nParkingParking on-site is limited\, so we highly encourage carpooling whenever possible. \nFood & DrinkTo help support our local partners and elevate your experience\, we kindly ask that outside food and alcohol not be brought in. Each concert features at least two fantastic food trucks\, offering a variety of delicious options to enjoy alongside your wine. \nWine ServiceDuring live music\, we offer wine by the glass or bottle only so we can best serve all of our guests. Tastings will pause during this time. \nRESERVE NOWA Colorado based good vibes crew playing all your favorite tunes. \nRESERVE NOWDiscover Hawaii’s culinary heritage! Food brings people together in Hawaii. It’s at the heart of the aloha spirit and the deep connections of ‘ohana. We’re excited to share those warm island feelings with you\, right here in Colorado. \nTake a journey through generations of flavor and tradition that have shaped Hawaii’s vibrant street food culture\, where every bite tells the story of our islands’ rich and diverse history. \nPitmaster and owner chef Mike Young along with his wife Carey offer competition BBQ favorites and scrumptious side dishes with Smokey Bonez BBQ!Bringing Western Colorado the best slow smoked Texas style brisket\, Kansas City style spareribs and slow smoked pork butts made with family recipes. \nRESERVE NOW
URL:https://restorationvineyards.com/event/uncle-padre-band-in-the-barrel-music-series/
LOCATION:Restoration Vineyards Tasting Room\, 3594 E 1/2 Rd\, Palisade\, CO\, 81526\, United States
CATEGORIES:Food Truck,Live Music,Wine Tasting
ATTACH;FMTTYPE=image/png:https://restorationvineyards.com/wp-content/uploads/2026/04/Uncle-Padre-Square.png
END:VEVENT
BEGIN:VEVENT
DTSTART;TZID=America/Denver:20260814T150000
DTEND;TZID=America/Denver:20260814T200000
DTSTAMP:20260421T022159
CREATED:20260331T164350Z
LAST-MODIFIED:20260331T164350Z
UID:10000804-1786719600-1786737600@restorationvineyards.com
SUMMARY:Wine Down Fridays - Pali-Thai
DESCRIPTION:Join us for our weekly “Wine Down” Friday featuring Pali-Thai Food Truck this week.  They are a local favorite with fresh\, delicious and authentic Thai cuisine.  We also offer a Happy Hour from 4pm-6pm with select wines by the glass available at a discount. \nAll seating is first come first serve and no seats will be reserved. \nWe started Pali Thai out of a tent at the Palisade Farmer’s Market in the fall of 2020 with the intent of bringing authentic Thai food to our community.  \nChiranut (Pam) is the heart and soul of Pali Thai. She was born and raised in the Aranyaprathet Region of Thailand where she learned to create authentic cuisine using traditional methods and local ingredients from the surrounding farms. Pam’s family still lives and farms on their ancestral lands. \n​Mike is a forth generation Coloradoan who talks too much and says too little. \n​We live on our small farm with a huge garden and lots of animals in Palisade\, Colorado.
URL:https://restorationvineyards.com/event/wine-down-fridays-pali-thai-4/2026-08-14/
LOCATION:Restoration Vineyards Tasting Room\, 3594 E 1/2 Rd\, Palisade\, CO\, 81526\, United States
CATEGORIES:Food Truck,Wine Tasting
ATTACH;FMTTYPE=image/png:https://restorationvineyards.com/wp-content/uploads/2025/04/Copy-of-Spring-Wine-Down-Fridays-2.png
END:VEVENT
BEGIN:VEVENT
DTSTART;TZID=America/Denver:20260815T130000
DTEND;TZID=America/Denver:20260815T170000
DTSTAMP:20260421T022159
CREATED:20260408T202310Z
LAST-MODIFIED:20260409T171615Z
UID:10000884-1786798800-1786813200@restorationvineyards.com
SUMMARY:Soul Habit - Band in the Barrel Music Series
DESCRIPTION:Important Details\nSeatingWe invite you to settle in and stay awhile—feel free to bring blankets or lawn chairs to enjoy the wine\, music\, and food. While we’ll have some shaded areas available\, seating and shade are first-come\, first-served and cannot be guaranteed. \nReservationsYour reservation guarantees admission to the venue along with a 90-minute experience. Please select your preferred time slot: 1:00–2:30 PM or 3:30–5:00 PM.To ensure we can accommodate all guests\, we kindly ask that you join us for one seating per day. \nParkingParking on-site is limited\, so we highly encourage carpooling whenever possible. \nFood & DrinkTo help support our local partners and elevate your experience\, we kindly ask that outside food and alcohol not be brought in. Each concert features at least two fantastic food trucks\, offering a variety of delicious options to enjoy alongside your wine. \nWine ServiceDuring live music\, we offer wine by the glass or bottle only so we can best serve all of our guests. Tastings will pause during this time. \nRESERVE NOWSoul Habit isn’t just any band; they’re a funk/rock/soul dance party waiting to happen. With a sound that demands you crank it up and let loose\, they’ve carved out a niche that feels both nostalgic and refreshingly new. Their influences read like a who’s who of funk legends and soul maestros: the brassy exuberance of Tower of Power\, the raw energy of James Brown\, the blues-infused rock of Tommy Castro\, the modern funk grooves of Lettuce\, and the timeless soul of Stevie Wonder. Together\, these influences coalesce into a sound that’s unmistakably Soul Habit. Crank it up! \nRESERVE NOWBringing our love of cheese to the people of the Western Slope.  Specializing in gourmet grilled cheese sandwiches. \nDiagnose your cravings with Hunger Tech! \nRESERVE NOW
URL:https://restorationvineyards.com/event/soul-habit-band-in-the-barrel-music-series-3/
LOCATION:Restoration Vineyards Tasting Room\, 3594 E 1/2 Rd\, Palisade\, CO\, 81526\, United States
CATEGORIES:Food Truck,Live Music,Wine Tasting
ATTACH;FMTTYPE=image/png:https://restorationvineyards.com/wp-content/uploads/2026/04/Soul-Habit-3-Square.png
END:VEVENT
BEGIN:VEVENT
DTSTART;TZID=America/Denver:20260821T150000
DTEND;TZID=America/Denver:20260821T200000
DTSTAMP:20260421T022159
CREATED:20260331T164350Z
LAST-MODIFIED:20260331T164350Z
UID:10000805-1787324400-1787342400@restorationvineyards.com
SUMMARY:Wine Down Fridays - Pali-Thai
DESCRIPTION:Join us for our weekly “Wine Down” Friday featuring Pali-Thai Food Truck this week.  They are a local favorite with fresh\, delicious and authentic Thai cuisine.  We also offer a Happy Hour from 4pm-6pm with select wines by the glass available at a discount. \nAll seating is first come first serve and no seats will be reserved. \nWe started Pali Thai out of a tent at the Palisade Farmer’s Market in the fall of 2020 with the intent of bringing authentic Thai food to our community.  \nChiranut (Pam) is the heart and soul of Pali Thai. She was born and raised in the Aranyaprathet Region of Thailand where she learned to create authentic cuisine using traditional methods and local ingredients from the surrounding farms. Pam’s family still lives and farms on their ancestral lands. \n​Mike is a forth generation Coloradoan who talks too much and says too little. \n​We live on our small farm with a huge garden and lots of animals in Palisade\, Colorado.
URL:https://restorationvineyards.com/event/wine-down-fridays-pali-thai-4/2026-08-21/
LOCATION:Restoration Vineyards Tasting Room\, 3594 E 1/2 Rd\, Palisade\, CO\, 81526\, United States
CATEGORIES:Food Truck,Wine Tasting
ATTACH;FMTTYPE=image/png:https://restorationvineyards.com/wp-content/uploads/2025/04/Copy-of-Spring-Wine-Down-Fridays-2.png
END:VEVENT
BEGIN:VEVENT
DTSTART;TZID=America/Denver:20260822T130000
DTEND;TZID=America/Denver:20260822T170000
DTSTAMP:20260421T022159
CREATED:20260408T204140Z
LAST-MODIFIED:20260409T172308Z
UID:10000885-1787403600-1787418000@restorationvineyards.com
SUMMARY:James Williams & Faith Peddlers - Band in the Barrel Music Series
DESCRIPTION:Important Details\nSeatingWe invite you to settle in and stay awhile—feel free to bring blankets or lawn chairs to enjoy the wine\, music\, and food. While we’ll have some shaded areas available\, seating and shade are first-come\, first-served and cannot be guaranteed. \nReservationsYour reservation guarantees admission to the venue along with a 90-minute experience. Please select your preferred time slot: 1:00–2:30 PM or 3:30–5:00 PM.To ensure we can accommodate all guests\, we kindly ask that you join us for one seating per day. \nParkingParking on-site is limited\, so we highly encourage carpooling whenever possible. \nFood & DrinkTo help support our local partners and elevate your experience\, we kindly ask that outside food and alcohol not be brought in. Each concert features at least two fantastic food trucks\, offering a variety of delicious options to enjoy alongside your wine. \nWine ServiceDuring live music\, we offer wine by the glass or bottle only so we can best serve all of our guests. Tastings will pause during this time. \nRESERVE NOWA gritty fusion of Southern Rock\, Outlaw Country\, East Bay blues-funk\, and high desert jam. Delivering raw energy\, soulful grooves\, and road-worn authenticity. \nRESERVE NOWBringing our love of cheese to the people of the Western Slope.  Specializing in gourmet grilled cheese sandwiches. \nWelcome to Bonfire Oyster Co.\, your premier destination for unparalleled oyster and seafood in Colorado. We are passionate about delivering an extraordinary culinary experience centered around oysters. At Bonfire\, we pride ourselves on our unique approach to seafood\, through our signature Wandering Raw Bar\, providing you and your guests with an interactive and unforgettable event. \nRESERVE NOW
URL:https://restorationvineyards.com/event/james-williams-faith-peddlers-band-in-the-barrel-music-series/
LOCATION:Restoration Vineyards Tasting Room\, 3594 E 1/2 Rd\, Palisade\, CO\, 81526\, United States
CATEGORIES:Food Truck,Live Music,Wine Tasting
ATTACH;FMTTYPE=image/png:https://restorationvineyards.com/wp-content/uploads/2026/04/James-Williams-Faith-Peddlers-Square-4.png
END:VEVENT
BEGIN:VEVENT
DTSTART;TZID=America/Denver:20260828T150000
DTEND;TZID=America/Denver:20260828T200000
DTSTAMP:20260421T022159
CREATED:20260331T164350Z
LAST-MODIFIED:20260331T164350Z
UID:10000806-1787929200-1787947200@restorationvineyards.com
SUMMARY:Wine Down Fridays - Pali-Thai
DESCRIPTION:Join us for our weekly “Wine Down” Friday featuring Pali-Thai Food Truck this week.  They are a local favorite with fresh\, delicious and authentic Thai cuisine.  We also offer a Happy Hour from 4pm-6pm with select wines by the glass available at a discount. \nAll seating is first come first serve and no seats will be reserved. \nWe started Pali Thai out of a tent at the Palisade Farmer’s Market in the fall of 2020 with the intent of bringing authentic Thai food to our community.  \nChiranut (Pam) is the heart and soul of Pali Thai. She was born and raised in the Aranyaprathet Region of Thailand where she learned to create authentic cuisine using traditional methods and local ingredients from the surrounding farms. Pam’s family still lives and farms on their ancestral lands. \n​Mike is a forth generation Coloradoan who talks too much and says too little. \n​We live on our small farm with a huge garden and lots of animals in Palisade\, Colorado.
URL:https://restorationvineyards.com/event/wine-down-fridays-pali-thai-4/2026-08-28/
LOCATION:Restoration Vineyards Tasting Room\, 3594 E 1/2 Rd\, Palisade\, CO\, 81526\, United States
CATEGORIES:Food Truck,Wine Tasting
ATTACH;FMTTYPE=image/png:https://restorationvineyards.com/wp-content/uploads/2025/04/Copy-of-Spring-Wine-Down-Fridays-2.png
END:VEVENT
BEGIN:VEVENT
DTSTART;TZID=America/Denver:20260829T130000
DTEND;TZID=America/Denver:20260829T170000
DTSTAMP:20260421T022159
CREATED:20260408T210959Z
LAST-MODIFIED:20260409T172434Z
UID:10000886-1788008400-1788022800@restorationvineyards.com
SUMMARY:Sean Moon Band - Band in the Barrel Music Series
DESCRIPTION:Important Details\nSeatingWe invite you to settle in and stay awhile—feel free to bring blankets or lawn chairs to enjoy the wine\, music\, and food. While we’ll have some shaded areas available\, seating and shade are first-come\, first-served and cannot be guaranteed. \nReservationsYour reservation guarantees admission to the venue along with a 90-minute experience. Please select your preferred time slot: 1:00–2:30 PM or 3:30–5:00 PM.To ensure we can accommodate all guests\, we kindly ask that you join us for one seating per day. \nParkingParking on-site is limited\, so we highly encourage carpooling whenever possible. \nFood & DrinkTo help support our local partners and elevate your experience\, we kindly ask that outside food and alcohol not be brought in. Each concert features at least two fantastic food trucks\, offering a variety of delicious options to enjoy alongside your wine. \nWine ServiceDuring live music\, we offer wine by the glass or bottle only so we can best serve all of our guests. Tastings will pause during this time. \nRESERVE NOWThe Sean Moon Band blends country\, rock\, and all-out fun. With a high-energy show that has fans dancing and singing\, The Sean Moon Band is a guaranteed good time. The Sean Moon Band has had the honor of playing stages with Granger Smith\, Diamond Rio\, Dylan Scott\, Warren Zyders\, Scotty McCreery\, Ned LeDoux\, Love and Theft\, LOCASH\, and many more. Playing shows in places like The Grizzly Rose\, The Whiskey Rose\, Warehouse 2565\, and Country Jam. \nRESERVE NOWServing panini sandwiches in Grand Junction and the surrounding area! \nWelcome to Bonfire Oyster Co.\, your premier destination for unparalleled oyster and seafood in Colorado. We are passionate about delivering an extraordinary culinary experience centered around oysters. At Bonfire\, we pride ourselves on our unique approach to seafood\, through our signature Wandering Raw Bar\, providing you and your guests with an interactive and unforgettable event. \nRESERVE NOW
URL:https://restorationvineyards.com/event/sean-moon-band-band-in-the-barrel-music-series/
LOCATION:Restoration Vineyards Tasting Room\, 3594 E 1/2 Rd\, Palisade\, CO\, 81526\, United States
CATEGORIES:Food Truck,Live Music,Wine Tasting
ATTACH;FMTTYPE=image/png:https://restorationvineyards.com/wp-content/uploads/2026/04/Sean-Moon-Band-Square.png
END:VEVENT
END:VCALENDAR