BEGIN:VCALENDAR
VERSION:2.0
PRODID:-//Restoration Vineyards - ECPv6.15.20//NONSGML v1.0//EN
CALSCALE:GREGORIAN
METHOD:PUBLISH
X-WR-CALNAME:Restoration Vineyards
X-ORIGINAL-URL:https://restorationvineyards.com
X-WR-CALDESC:Events for Restoration Vineyards
REFRESH-INTERVAL;VALUE=DURATION:PT1H
X-Robots-Tag:noindex
X-PUBLISHED-TTL:PT1H
BEGIN:VTIMEZONE
TZID:America/Denver
BEGIN:DAYLIGHT
TZOFFSETFROM:-0700
TZOFFSETTO:-0600
TZNAME:MDT
DTSTART:20240310T090000
END:DAYLIGHT
BEGIN:STANDARD
TZOFFSETFROM:-0600
TZOFFSETTO:-0700
TZNAME:MST
DTSTART:20241103T080000
END:STANDARD
BEGIN:DAYLIGHT
TZOFFSETFROM:-0700
TZOFFSETTO:-0600
TZNAME:MDT
DTSTART:20250309T090000
END:DAYLIGHT
BEGIN:STANDARD
TZOFFSETFROM:-0600
TZOFFSETTO:-0700
TZNAME:MST
DTSTART:20251102T080000
END:STANDARD
BEGIN:DAYLIGHT
TZOFFSETFROM:-0700
TZOFFSETTO:-0600
TZNAME:MDT
DTSTART:20260308T090000
END:DAYLIGHT
BEGIN:STANDARD
TZOFFSETFROM:-0600
TZOFFSETTO:-0700
TZNAME:MST
DTSTART:20261101T080000
END:STANDARD
END:VTIMEZONE
BEGIN:VEVENT
DTSTART;TZID=America/Denver:20250809T130000
DTEND;TZID=America/Denver:20250809T170000
DTSTAMP:20260425T084455
CREATED:20250425T172836Z
LAST-MODIFIED:20250425T172836Z
UID:10000677-1754744400-1754758800@restorationvineyards.com
SUMMARY:Eyes of Glass - Band in the Barrel Music Series
DESCRIPTION:RESERVE NOWImportant Details: \nSeating: Guests are encouraged to bring blankets or lawn chairs to relax and enjoy the wine\, music\, and food. While we’ll do our best to provide shaded spots\, they cannot be guaranteed. \nReservations: Your reservation guarantees venue admission and a 90-minute seating time. Choose between two time slots: 1:00–2:30 PM or 3:30–5:00 PM. \nParking: Parking is limited\, so please carpool if possible. \nFood & Drink Policy: Outside food and alcohol are not permitted. We have at least two fantastic food trucks on-site during each concert to satisfy your taste buds! Check out the available options for this concert below. Additionally\, only wine purchased on-site may be consumed. \nService Notice: During live music\, wine will be available by the bottle or glass only. Tastings will not be offered to ensure we can serve all our guests efficiently. \nEyes of Glass was founded in the summer of 2024 in Palisade\, Colorado by drummer\, Chuck Shortt\, and guitarist\, Lloyd Shrove.  Chuck and Lloyd then recruited guitarist\, Ryan Powell\, and saxophonist/vocalist\, Neil Olsen\, and finally rounded out the group with the addition of bassist\, Trent Lumpkin\, and vocalist\, Caitlin Lumpkin. \nThe members of Eyes of Glass are from all over the United States\, from rural Southwest Georgia to the Denver suburbs\, but each of us started playing music at a young age.  Some of us grew up singing in church\, others started playing music in the middle school marching band.  We have over 200 years of music experience between us!  The diversity in our experiences has contributed to our blend of vocal harmony\, hard rock guitar riffs\, funky bass lines\, and driving percussion\, accented by distinctive saxophone grooves. \nWith the inclusion of upright bass and saxophone\, Eyes of Glass is bringing a unique sound and instrumentation to covers of funk\, folk\, and rock hits from the 1960s to the present.  We aim to entertain our audiences with songs everyone loves but might not hear on the radio every day.  Some of our musical influences include Tom Petty\, Rush\, Neil Young\, Stevie Nicks\, and Led Zeppelin.  Playing music makes us happy\, and we’re always having a good time; we hope you’ll be inspired to dance and sing along with us. \nRESERVE NOWOriginally from Albuquerque\, Jason & Julia have decided to share their passion for cooking and New Mexican cuisine with their new community of the Grand Valley. They opened a food trailer offering a combination of their family recipes and New Mexico Specialties. \nPitmaster and owner chef Mike Young along with his wife Carey offer competition BBQ favorites and scrumptious side dishes with Smokey Bonez BBQ!Bringing Western Colorado the best slow smoked Texas style brisket\, Kansas City style spareribs and slow smoked pork butts made with family recipes.
URL:https://restorationvineyards.com/event/eyes-of-glass-band-in-the-barrel-music-series/
LOCATION:Restoration Vineyards Tasting Room\, 3594 E 1/2 Rd\, Palisade\, CO\, 81526\, United States
CATEGORIES:Food Truck,Live Music
ATTACH;FMTTYPE=image/jpeg:https://restorationvineyards.com/wp-content/uploads/2025/04/EOG-logo.jpeg
END:VEVENT
END:VCALENDAR