BEGIN:VCALENDAR
VERSION:2.0
PRODID:-//Restoration Vineyards - ECPv6.15.20//NONSGML v1.0//EN
CALSCALE:GREGORIAN
METHOD:PUBLISH
X-ORIGINAL-URL:https://restorationvineyards.com
X-WR-CALDESC:Events for Restoration Vineyards
REFRESH-INTERVAL;VALUE=DURATION:PT1H
X-Robots-Tag:noindex
X-PUBLISHED-TTL:PT1H
BEGIN:VTIMEZONE
TZID:America/Denver
BEGIN:DAYLIGHT
TZOFFSETFROM:-0700
TZOFFSETTO:-0600
TZNAME:MDT
DTSTART:20230312T090000
END:DAYLIGHT
BEGIN:STANDARD
TZOFFSETFROM:-0600
TZOFFSETTO:-0700
TZNAME:MST
DTSTART:20231105T080000
END:STANDARD
BEGIN:DAYLIGHT
TZOFFSETFROM:-0700
TZOFFSETTO:-0600
TZNAME:MDT
DTSTART:20240310T090000
END:DAYLIGHT
BEGIN:STANDARD
TZOFFSETFROM:-0600
TZOFFSETTO:-0700
TZNAME:MST
DTSTART:20241103T080000
END:STANDARD
BEGIN:DAYLIGHT
TZOFFSETFROM:-0700
TZOFFSETTO:-0600
TZNAME:MDT
DTSTART:20250309T090000
END:DAYLIGHT
BEGIN:STANDARD
TZOFFSETFROM:-0600
TZOFFSETTO:-0700
TZNAME:MST
DTSTART:20251102T080000
END:STANDARD
END:VTIMEZONE
BEGIN:VEVENT
DTSTART;TZID=America/Denver:20240907T130000
DTEND;TZID=America/Denver:20240907T170000
DTSTAMP:20260422T062248
CREATED:20240805T220740Z
LAST-MODIFIED:20240805T220740Z
UID:10000400-1725714000-1725728400@restorationvineyards.com
SUMMARY:Wood Shed - Band in the Barrel Music Series
DESCRIPTION:We are excited to welcome Woodshed for this Band in the Barrel Concert.\nSome noteworthy details: \n-Attendees are encouraged to bring a blanket or lawn chairs to enjoy wine\, music\, and food. \n-Please carpool if possible\, parking is limited. \n-No outside alcohol allowed \n-We ask that you do not bring outside food and that you support the food trucks. \n-Bottle and glass sales only\, no tastings during the live music so we can better serve all our guests. \n-A reservation only ensures you admission into the venue\, we will do our best to provide a shaded spot\, but it is not guaranteed. \n-Seating times are for 90 minutes\, choose from either 1:00 – 2:30 or 3:30 – 5:00 time slots. \nRESERVE NOW“Woodshed” is a collective of talented musicians\, singers\, songwriters\, poets and all around fun people!\nWe bring a selection of original music as well as carefully chosen tasteful covers.\nWe met at the Fruita Cavalcade and perform there at the monthly Variety Show.\nRESERVE NOWRed Barn Catering is a combined passion for food from the husband and wife team of Pat and Melinda Lewis.  They bring years of catering and food service experience together from the farming region of central California to the Grand Valley of Colorado.   Their cooking style is limitless\, and brings the best locally sourced ingredients together to form classic favorites as well as unique farm to fork delicacies. \nPitmaster and owner chef Mike Young along with his wife Carey offer competition BBQ favorites and scrumptious side dishes with Smokey Bonez BBQ!Bringing Western Colorado the best slow smoked Texas style brisket\, Kansas City style spareribs and slow smoked pork butts made with family recipes.
URL:https://restorationvineyards.com/event/wood-shed-band-in-the-barrel-music-series/
LOCATION:Restoration Vineyards Tasting Room\, 3594 E 1/2 Rd\, Palisade\, CO\, 81526\, United States
CATEGORIES:Food Truck,Live Music,Wine Tasting
ATTACH;FMTTYPE=image/jpeg:https://restorationvineyards.com/wp-content/uploads/2024/08/image1.jpeg
END:VEVENT
BEGIN:VEVENT
DTSTART;TZID=America/Denver:20240919T183000
DTEND;TZID=America/Denver:20240919T210000
DTSTAMP:20260422T062248
CREATED:20240916T005447Z
LAST-MODIFIED:20240916T005848Z
UID:10000394-1726770600-1726779600@restorationvineyards.com
SUMMARY:Sinners & Saints - Grand Junction Symphony Orchestra Fundraiser
DESCRIPTION:RESERVE NOWWe are excited to welcome Sinners & Saints for a benefit concert benefitting the Grand Junction Symphony Orchestra \n-Doors open at 5:30pm \n-Please bring a blanket or lawn chairs to enjoy wine\, music\, and food. \n-Please carpool if possible\, parking is limited. \n-No outside alcohol allowed \n-We ask that you do not bring outside food and that you support the food trucks. \n-Bottle and glass sales only\, no tastings during the live music so we can better serve all our guests. \n-A reservation only ensures you admission into the venue\, we will do our best to provide a shaded spot\, but it is not guaranteed. \nSinners & Saints \nRESERVE NOWBringing our love of cheese to the people of the Western Slope.  Specializing in gourmet grilled cheese sandwiches. \nPitmaster and owner chef Mike Young along with his wife Carey offer competition BBQ favorites and scrumptious side dishes with Smokey Bonez BBQ!Bringing Western Colorado the best slow smoked Texas style brisket\, Kansas City style spareribs and slow smoked pork butts made with family recipes.
URL:https://restorationvineyards.com/event/sinners-saints-grand-junction-symphony-orchestra-fundraiser/
LOCATION:CO
CATEGORIES:Food Truck,Fundraiser,Live Music,Wine Tasting
ATTACH;FMTTYPE=image/jpeg:https://restorationvineyards.com/wp-content/uploads/2024/07/sinners-and-saints-sept-19-RESTORATION_square2.jpg
END:VEVENT
BEGIN:VEVENT
DTSTART;TZID=America/Denver:20240921T130000
DTEND;TZID=America/Denver:20240921T170000
DTSTAMP:20260422T062248
CREATED:20240508T195532Z
LAST-MODIFIED:20240618T222722Z
UID:10000216-1726923600-1726938000@restorationvineyards.com
SUMMARY:The Violet Pines - Band in the Barrel Music Series
DESCRIPTION:We are excited to welcome The Violet Pines for this Band in the Barrel Concert.\nSome noteworthy details: \n-Attendees are encouraged to bring a blanket or lawn chairs to enjoy wine\, music\, and food. \n-Please carpool if possible\, parking is limited. \n-No outside alcohol allowed \n-We ask that you do not bring outside food and that you support the food trucks. \n-Bottle and glass sales only\, no tastings during the live music so we can better serve all our guests. \n-A reservation only ensures you admission into the venue\, we will do our best to provide a shaded spot\, but it is not guaranteed. \n-Seating times are for 90 minutes\, choose from either 1:00 – 2:30 or 3:30 – 5:00 time slots. \nRESERVE NOW\nOriginal four-piece band from Grand Junction\, Colorado with a high energy sound exploring all genres. \n\nRESERVE NOWRed Barn Catering is a combined passion for food from the husband and wife team of Pat and Melinda Lewis.  They bring years of catering and food service experience together from the farming region of central California to the Grand Valley of Colorado.   Their cooking style is limitless\, and brings the best locally sourced ingredients together to form classic favorites as well as unique farm to fork delicacies. \nWestern Colorado’s Mobile Cheese Wagon specializing in gourmet grilled cheese
URL:https://restorationvineyards.com/event/the-violet-pines-band-in-the-barrel-music-series-3/
LOCATION:Restoration Vineyards Tasting Room\, 3594 E 1/2 Rd\, Palisade\, CO\, 81526\, United States
CATEGORIES:Food Truck,Live Music,Wine Tasting
ATTACH;FMTTYPE=image/png:https://restorationvineyards.com/wp-content/uploads/2023/05/Untitled-design.png
END:VEVENT
BEGIN:VEVENT
DTSTART;TZID=America/Denver:20240928T130000
DTEND;TZID=America/Denver:20240928T170000
DTSTAMP:20260422T062248
CREATED:20240806T005437Z
LAST-MODIFIED:20240806T010756Z
UID:10000401-1727528400-1727542800@restorationvineyards.com
SUMMARY:Heavy Diamond Ring - Band in the Barrel Music Series
DESCRIPTION:We are excited to welcome Heavy Diamond Ring for this Band in the Barrel Concert.\nSome noteworthy details: \n-Attendees are encouraged to bring a blanket or lawn chairs to enjoy wine\, music\, and food. \n-Please carpool if possible\, parking is limited. \n-No outside alcohol allowed \n-We ask that you do not bring outside food and that you support the food trucks. \n-Bottle and glass sales only\, no tastings during the live music so we can better serve all our guests. \n-A reservation only ensures you admission into the venue\, we will do our best to provide a shaded spot\, but it is not guaranteed. \n-Seating times are for 90 minutes\, choose from either 1:00 – 2:30 or 3:30 – 5:00 time slots. \nRESERVE NOWSome things are just meant to last. When Sarah Anderson and Paul DeHaven met and began playing together in 2004\, they had no idea just how deep the well of their musical partnership would prove to be. After the disbanding of indie-folk sweethearts Paper Bird\, the duo founded Heavy Diamond Ring and never looked back. \nHDR is the culmination (thus far) of their signature sound\, a fountain of open-hearted\, folk-rock\, steeped in vocal harmony and group synergy. Led by Anderson’s smooth-as-honey vocals and DeHaven’s rugged guitar chops\, the band has been described as “open-road\, long drive music”\, having “a little bit of twang\, and a whole lot of beef”\, and their live show as “infectious and contagious”. The band is rounded out by veteran knockouts Blake Stepan (bass)\, Mike Lang (keys)\, and Orion Tate Ignelzi (drums). \nTheir second full-length LP\, “All Out of Angels”\, out this fall\, was produced by Ben Wysocki (the Fray) and Mark Anderson and features a duet with Nathaniel Rateliff. Out November 17 on Cowboy Cowabunga Recordings. \n“Heavy Diamond Ring creates a sound that feels as classic as rolling down the windows in the summer – a super highway to a new frontier.” -303 Magazine\n“…a helping of contemporary indie-folk that goes down easy\, augmented by some subtle\, snaky guitar work\, walls of harmony vocals and Anderson’s attention-grabbing vocals.” -CS Indy  \nRESERVE NOWWelcome to Bonfire Oyster Co.\, your premier destination for unparalleled oyster and seafood in Colorado. We are passionate about delivering an extraordinary culinary experience centered around oysters. At Bonfire\, we pride ourselves on our unique approach to seafood\, through our signature Wandering Raw Bar\, providing you and your guests with an interactive and unforgettable event. \nThe Little Pink Truck is a food truck local to Grand Junction serving fresh\, local\, chef inspired soups\, salads and sandwiches. Also specializing in BBQ Catering. We offer vegetarian\, dairy free and gluten free options as well as delicious\, healthy kids meals and hearty sandwiches. A home run for the whole family! \nThe fun and exciting part about our truck is there’s something yummy to eat for everyone (even the little picky eaters)! We strive to make it easy for customers with all types of diets to enjoy our food. \nWe are lucky enough to live in an area that is packed with fresh produce! We find great pleasure in utilizing that perk and providing local ingredients to our customers! Eat local!!
URL:https://restorationvineyards.com/event/heavy-diamond-ring-band-in-the-barrel-music-series/
LOCATION:Restoration Vineyards Tasting Room\, 3594 E 1/2 Rd\, Palisade\, CO\, 81526\, United States
CATEGORIES:Food Truck,Live Music,Wine Tasting
ATTACH;FMTTYPE=image/jpeg:https://restorationvineyards.com/wp-content/uploads/2024/08/370178012_704478408158691_5131502807196228847_n.jpg
END:VEVENT
END:VCALENDAR