BEGIN:VCALENDAR
VERSION:2.0
PRODID:-//Restoration Vineyards - ECPv6.15.20//NONSGML v1.0//EN
CALSCALE:GREGORIAN
METHOD:PUBLISH
X-WR-CALNAME:Restoration Vineyards
X-ORIGINAL-URL:https://restorationvineyards.com
X-WR-CALDESC:Events for Restoration Vineyards
REFRESH-INTERVAL;VALUE=DURATION:PT1H
X-Robots-Tag:noindex
X-PUBLISHED-TTL:PT1H
BEGIN:VTIMEZONE
TZID:America/Denver
BEGIN:DAYLIGHT
TZOFFSETFROM:-0700
TZOFFSETTO:-0600
TZNAME:MDT
DTSTART:20240310T090000
END:DAYLIGHT
BEGIN:STANDARD
TZOFFSETFROM:-0600
TZOFFSETTO:-0700
TZNAME:MST
DTSTART:20241103T080000
END:STANDARD
BEGIN:DAYLIGHT
TZOFFSETFROM:-0700
TZOFFSETTO:-0600
TZNAME:MDT
DTSTART:20250309T090000
END:DAYLIGHT
BEGIN:STANDARD
TZOFFSETFROM:-0600
TZOFFSETTO:-0700
TZNAME:MST
DTSTART:20251102T080000
END:STANDARD
BEGIN:DAYLIGHT
TZOFFSETFROM:-0700
TZOFFSETTO:-0600
TZNAME:MDT
DTSTART:20260308T090000
END:DAYLIGHT
BEGIN:STANDARD
TZOFFSETFROM:-0600
TZOFFSETTO:-0700
TZNAME:MST
DTSTART:20261101T080000
END:STANDARD
END:VTIMEZONE
BEGIN:VEVENT
DTSTART;TZID=America/Denver:20250712T130000
DTEND;TZID=America/Denver:20250712T170000
DTSTAMP:20260420T122344
CREATED:20250424T230554Z
LAST-MODIFIED:20250424T230644Z
UID:10000673-1752325200-1752339600@restorationvineyards.com
SUMMARY:Zac Grant Trio - Band in the Barrel Music Series
DESCRIPTION:RESERVE NOWImportant Details: \nSeating: Guests are encouraged to bring blankets or lawn chairs to relax and enjoy the wine\, music\, and food. While we’ll do our best to provide shaded spots\, they cannot be guaranteed. \nReservations: Your reservation guarantees venue admission and a 90-minute seating time. Choose between two time slots: 1:00–2:30 PM or 3:30–5:00 PM. \nParking: Parking is limited\, so please carpool if possible. \nFood & Drink Policy: Outside food and alcohol are not permitted. We have at least two fantastic food trucks on-site during each concert to satisfy your taste buds! Check out the available options for this concert below. Additionally\, only wine purchased on-site may be consumed. \nService Notice: During live music\, wine will be available by the bottle or glass only. Tastings will not be offered to ensure we can serve all our guests efficiently. \n\nZac Grant : Zac Grant is an accomplished musician and songwriter based in Grand Junction\, CO.  As a core member of the band Zolopht\, Zac has spent years captivating audiences across the country with his dynamic performances.  Emerging into an intimate role while performing solo\, Zac offers fans a more personal experience\, blending heartfelt originals with carefully curated covers of songs that have shaped his musical journey.  Grant’s solo venture offers a chance to witness a seasoned performer at his most vulnerable and authentic. Whether you’re a longtime fan of Zolopht or a newcomer to his music\, Zac’s live shows promise unforgettable connection\, passion\, and artistry. \n\nRESERVE NOWBringing our love of cheese to the people of the Western Slope.  Specializing in gourmet grilled cheese sandwiches. \nPitmaster and owner chef Mike Young along with his wife Carey offer competition BBQ favorites and scrumptious side dishes with Smokey Bonez BBQ!Bringing Western Colorado the best slow smoked Texas style brisket\, Kansas City style spareribs and slow smoked pork butts made with family recipes.
URL:https://restorationvineyards.com/event/zac-grant-trio-band-in-the-barrel-music-series/
LOCATION:Restoration Vineyards Tasting Room\, 3594 E 1/2 Rd\, Palisade\, CO\, 81526\, United States
CATEGORIES:Food Truck,Live Music
ATTACH;FMTTYPE=image/jpeg:https://restorationvineyards.com/wp-content/uploads/2025/04/IMG_0529-1.jpeg
END:VEVENT
END:VCALENDAR