BEGIN:VCALENDAR
VERSION:2.0
PRODID:-//Restoration Vineyards - ECPv6.15.20//NONSGML v1.0//EN
CALSCALE:GREGORIAN
METHOD:PUBLISH
X-ORIGINAL-URL:https://restorationvineyards.com
X-WR-CALDESC:Events for Restoration Vineyards
REFRESH-INTERVAL;VALUE=DURATION:PT1H
X-Robots-Tag:noindex
X-PUBLISHED-TTL:PT1H
BEGIN:VTIMEZONE
TZID:America/Denver
BEGIN:DAYLIGHT
TZOFFSETFROM:-0700
TZOFFSETTO:-0600
TZNAME:MDT
DTSTART:20250309T090000
END:DAYLIGHT
BEGIN:STANDARD
TZOFFSETFROM:-0600
TZOFFSETTO:-0700
TZNAME:MST
DTSTART:20251102T080000
END:STANDARD
BEGIN:DAYLIGHT
TZOFFSETFROM:-0700
TZOFFSETTO:-0600
TZNAME:MDT
DTSTART:20260308T090000
END:DAYLIGHT
BEGIN:STANDARD
TZOFFSETFROM:-0600
TZOFFSETTO:-0700
TZNAME:MST
DTSTART:20261101T080000
END:STANDARD
BEGIN:DAYLIGHT
TZOFFSETFROM:-0700
TZOFFSETTO:-0600
TZNAME:MDT
DTSTART:20270314T090000
END:DAYLIGHT
BEGIN:STANDARD
TZOFFSETFROM:-0600
TZOFFSETTO:-0700
TZNAME:MST
DTSTART:20271107T080000
END:STANDARD
END:VTIMEZONE
BEGIN:VEVENT
DTSTART;TZID=America/Denver:20260306T150000
DTEND;TZID=America/Denver:20260306T190000
DTSTAMP:20260421T122920
CREATED:20260306T201431Z
LAST-MODIFIED:20260306T201431Z
UID:10000761-1772809200-1772823600@restorationvineyards.com
SUMMARY:Panini Junction - Wine Down Friday
DESCRIPTION:Serving panini sandwiches in Grand Junction and the surrounding area!
URL:https://restorationvineyards.com/event/panini-junction-wine-down-friday/
LOCATION:Restoration Vineyards Tasting Room\, 3594 E 1/2 Rd\, Palisade\, CO\, 81526\, United States
CATEGORIES:Food Truck
ATTACH;FMTTYPE=image/png:https://restorationvineyards.com/wp-content/uploads/2026/03/Copy-of-Copy-of-Copy-of-Wine-Down-Fridays.png
END:VEVENT
BEGIN:VEVENT
DTSTART;TZID=America/Denver:20260307T110000
DTEND;TZID=America/Denver:20260307T170000
DTSTAMP:20260421T122921
CREATED:20260306T201721Z
LAST-MODIFIED:20260307T201703Z
UID:10000762-1772881200-1772902800@restorationvineyards.com
SUMMARY:Underdog Cheese Food Truck
DESCRIPTION:Bringing our love of cheese to the people of the Western Slope.  Specializing in gourmet grilled cheese sandwiches.
URL:https://restorationvineyards.com/event/underdog-cheese-food-truck-4/2026-03-07/
LOCATION:Restoration Vineyards Tasting Room\, 3594 E 1/2 Rd\, Palisade\, CO\, 81526\, United States
CATEGORIES:Food Truck
ATTACH;FMTTYPE=image/png:https://restorationvineyards.com/wp-content/uploads/2021/05/ROUND-LOGO-UNDERDOG-CHEESE-rgb-1.png
END:VEVENT
BEGIN:VEVENT
DTSTART;TZID=America/Denver:20260313T150000
DTEND;TZID=America/Denver:20260313T190000
DTSTAMP:20260421T122921
CREATED:20260307T201547Z
LAST-MODIFIED:20260307T201547Z
UID:10000763-1773414000-1773428400@restorationvineyards.com
SUMMARY:El Rey Food Truck - Wine Down Fridays
DESCRIPTION:
URL:https://restorationvineyards.com/event/el-rey-food-truck-wine-down-fridays/
LOCATION:Restoration Vineyards Tasting Room\, 3594 E 1/2 Rd\, Palisade\, CO\, 81526\, United States
CATEGORIES:Food Truck
ATTACH;FMTTYPE=image/png:https://restorationvineyards.com/wp-content/uploads/2026/01/Copy-of-Copy-of-Wine-Down-Fridays-3.png
END:VEVENT
BEGIN:VEVENT
DTSTART;TZID=America/Denver:20260314T110000
DTEND;TZID=America/Denver:20260314T170000
DTSTAMP:20260421T122921
CREATED:20260306T201721Z
LAST-MODIFIED:20260307T201703Z
UID:10000764-1773486000-1773507600@restorationvineyards.com
SUMMARY:Underdog Cheese Food Truck
DESCRIPTION:Bringing our love of cheese to the people of the Western Slope.  Specializing in gourmet grilled cheese sandwiches.
URL:https://restorationvineyards.com/event/underdog-cheese-food-truck-4/2026-03-14/
LOCATION:Restoration Vineyards Tasting Room\, 3594 E 1/2 Rd\, Palisade\, CO\, 81526\, United States
CATEGORIES:Food Truck
ATTACH;FMTTYPE=image/png:https://restorationvineyards.com/wp-content/uploads/2021/05/ROUND-LOGO-UNDERDOG-CHEESE-rgb-1.png
END:VEVENT
BEGIN:VEVENT
DTSTART;TZID=America/Denver:20260320T150000
DTEND;TZID=America/Denver:20260320T190000
DTSTAMP:20260421T122921
CREATED:20260307T201847Z
LAST-MODIFIED:20260307T201847Z
UID:10000769-1774018800-1774033200@restorationvineyards.com
SUMMARY:Hunger Tech - Wine Down Fridays
DESCRIPTION:Join us for our weekly “Wine Down” Friday featuring El Rey Mexican Food Truck this week.  They are a local favorite with fresh\, delicious and authentic Mexican cuisine.  We also offer a Happy Hour from 4pm-6pm with select wines by the glass available at a discount.
URL:https://restorationvineyards.com/event/hunger-tech-wine-down-fridays/
LOCATION:Restoration Vineyards Tasting Room\, 3594 E 1/2 Rd\, Palisade\, CO\, 81526\, United States
CATEGORIES:Food Truck
ATTACH;FMTTYPE=image/png:https://restorationvineyards.com/wp-content/uploads/2026/01/Hunger-Tech-Wine-Down-Fridays.png
END:VEVENT
BEGIN:VEVENT
DTSTART;TZID=America/Denver:20260321T110000
DTEND;TZID=America/Denver:20260321T170000
DTSTAMP:20260421T122921
CREATED:20260306T201721Z
LAST-MODIFIED:20260307T201703Z
UID:10000765-1774090800-1774112400@restorationvineyards.com
SUMMARY:Underdog Cheese Food Truck
DESCRIPTION:Bringing our love of cheese to the people of the Western Slope.  Specializing in gourmet grilled cheese sandwiches.
URL:https://restorationvineyards.com/event/underdog-cheese-food-truck-4/2026-03-21/
LOCATION:Restoration Vineyards Tasting Room\, 3594 E 1/2 Rd\, Palisade\, CO\, 81526\, United States
CATEGORIES:Food Truck
ATTACH;FMTTYPE=image/png:https://restorationvineyards.com/wp-content/uploads/2021/05/ROUND-LOGO-UNDERDOG-CHEESE-rgb-1.png
END:VEVENT
BEGIN:VEVENT
DTSTART;TZID=America/Denver:20260327T150000
DTEND;TZID=America/Denver:20260327T190000
DTSTAMP:20260421T122921
CREATED:20260307T202003Z
LAST-MODIFIED:20260307T202003Z
UID:10000770-1774623600-1774638000@restorationvineyards.com
SUMMARY:Panini Junction - Wine Down Friday
DESCRIPTION:Serving panini sandwiches in Grand Junction and the surrounding area!
URL:https://restorationvineyards.com/event/panini-junction-wine-down-friday-2/
LOCATION:Restoration Vineyards Tasting Room\, 3594 E 1/2 Rd\, Palisade\, CO\, 81526\, United States
CATEGORIES:Food Truck
ATTACH;FMTTYPE=image/png:https://restorationvineyards.com/wp-content/uploads/2026/03/Copy-of-Copy-of-Copy-of-Wine-Down-Fridays.png
END:VEVENT
BEGIN:VEVENT
DTSTART;TZID=America/Denver:20260328T110000
DTEND;TZID=America/Denver:20260328T170000
DTSTAMP:20260421T122921
CREATED:20260306T201721Z
LAST-MODIFIED:20260307T201703Z
UID:10000766-1774695600-1774717200@restorationvineyards.com
SUMMARY:Underdog Cheese Food Truck
DESCRIPTION:Bringing our love of cheese to the people of the Western Slope.  Specializing in gourmet grilled cheese sandwiches.
URL:https://restorationvineyards.com/event/underdog-cheese-food-truck-4/2026-03-28/
LOCATION:Restoration Vineyards Tasting Room\, 3594 E 1/2 Rd\, Palisade\, CO\, 81526\, United States
CATEGORIES:Food Truck
ATTACH;FMTTYPE=image/png:https://restorationvineyards.com/wp-content/uploads/2021/05/ROUND-LOGO-UNDERDOG-CHEESE-rgb-1.png
END:VEVENT
END:VCALENDAR