BEGIN:VCALENDAR
VERSION:2.0
PRODID:-//Restoration Vineyards - ECPv6.15.20//NONSGML v1.0//EN
CALSCALE:GREGORIAN
METHOD:PUBLISH
X-ORIGINAL-URL:https://restorationvineyards.com
X-WR-CALDESC:Events for Restoration Vineyards
REFRESH-INTERVAL;VALUE=DURATION:PT1H
X-Robots-Tag:noindex
X-PUBLISHED-TTL:PT1H
BEGIN:VTIMEZONE
TZID:America/Denver
BEGIN:DAYLIGHT
TZOFFSETFROM:-0700
TZOFFSETTO:-0600
TZNAME:MDT
DTSTART:20250309T090000
END:DAYLIGHT
BEGIN:STANDARD
TZOFFSETFROM:-0600
TZOFFSETTO:-0700
TZNAME:MST
DTSTART:20251102T080000
END:STANDARD
BEGIN:DAYLIGHT
TZOFFSETFROM:-0700
TZOFFSETTO:-0600
TZNAME:MDT
DTSTART:20260308T090000
END:DAYLIGHT
BEGIN:STANDARD
TZOFFSETFROM:-0600
TZOFFSETTO:-0700
TZNAME:MST
DTSTART:20261101T080000
END:STANDARD
BEGIN:DAYLIGHT
TZOFFSETFROM:-0700
TZOFFSETTO:-0600
TZNAME:MDT
DTSTART:20270314T090000
END:DAYLIGHT
BEGIN:STANDARD
TZOFFSETFROM:-0600
TZOFFSETTO:-0700
TZNAME:MST
DTSTART:20271107T080000
END:STANDARD
END:VTIMEZONE
BEGIN:VEVENT
DTSTART;TZID=America/Denver:20260206T150000
DTEND;TZID=America/Denver:20260206T190000
DTSTAMP:20260425T180429
CREATED:20260130T203446Z
LAST-MODIFIED:20260130T203446Z
UID:10000747-1770390000-1770404400@restorationvineyards.com
SUMMARY:Wine Down Friday - El Rey Food Truck
DESCRIPTION:Join us for our weekly “Wine Down” Friday featuring El Rey Mexican Food Truck this week.  They are a local favorite with fresh\, delicious and authentic Mexican cuisine.  We also offer a Happy Hour from 4pm-6pm with select wines by the glass available at a discount.
URL:https://restorationvineyards.com/event/wine-down-friday-el-rey-food-truck/
LOCATION:Restoration Vineyards Tasting Room\, 3594 E 1/2 Rd\, Palisade\, CO\, 81526\, United States
CATEGORIES:Food Truck
ATTACH;FMTTYPE=image/png:https://restorationvineyards.com/wp-content/uploads/2026/01/Copy-of-Copy-of-Wine-Down-Fridays-3.png
END:VEVENT
BEGIN:VEVENT
DTSTART;TZID=America/Denver:20260207T110000
DTEND;TZID=America/Denver:20260207T170000
DTSTAMP:20260425T180429
CREATED:20260130T203555Z
LAST-MODIFIED:20260130T203555Z
UID:10000748-1770462000-1770483600@restorationvineyards.com
SUMMARY:El Rey Food Truck
DESCRIPTION:
URL:https://restorationvineyards.com/event/el-rey-food-truck-4/
LOCATION:Restoration Vineyards Tasting Room\, 3594 E 1/2 Rd\, Palisade\, CO\, 81526\, United States
CATEGORIES:Food Truck
ATTACH;FMTTYPE=image/jpeg:https://restorationvineyards.com/wp-content/uploads/2024/07/426195823_329995506702588_1862956852707305958_n.jpg
END:VEVENT
BEGIN:VEVENT
DTSTART;TZID=America/Denver:20260213T150000
DTEND;TZID=America/Denver:20260213T190000
DTSTAMP:20260425T180429
CREATED:20260104T192316Z
LAST-MODIFIED:20260130T202936Z
UID:10000743-1770994800-1771009200@restorationvineyards.com
SUMMARY:Wine Down Friday - Hunger Tech
DESCRIPTION:Join us for our weekly “Wine Down” Friday featuring Hunger Tech Food Truck this week.  They are a specialize in smash burgers and gourmet hot dogs.  We also offer a Happy Hour from 4pm-6pm with select wines by the glass available at a discount. Bottomless S’mores offered for just $5 per person \n‘
URL:https://restorationvineyards.com/event/wine-down-friday-hunger-tech/2026-02-13/
LOCATION:Restoration Vineyards Tasting Room\, 3594 E 1/2 Rd\, Palisade\, CO\, 81526\, United States
CATEGORIES:Food Truck
ATTACH;FMTTYPE=image/png:https://restorationvineyards.com/wp-content/uploads/2026/01/Hunger-Tech-Wine-Down-Fridays.png
END:VEVENT
BEGIN:VEVENT
DTSTART;TZID=America/Denver:20260214T110000
DTEND;TZID=America/Denver:20260214T170000
DTSTAMP:20260425T180429
CREATED:20260130T202801Z
LAST-MODIFIED:20260130T202802Z
UID:10000734-1771066800-1771088400@restorationvineyards.com
SUMMARY:Hunger Tech Food Truck
DESCRIPTION:
URL:https://restorationvineyards.com/event/hunger-tech-food-truck-3-2/2026-02-14/
LOCATION:Restoration Vineyards Tasting Room\, 3594 E 1/2 Rd\, Palisade\, CO\, 81526\, United States
CATEGORIES:Food Truck
ATTACH;FMTTYPE=image/jpeg:https://restorationvineyards.com/wp-content/uploads/2024/07/376275114_122116956536022756_3696008875586786850_n.jpg
END:VEVENT
BEGIN:VEVENT
DTSTART;TZID=America/Denver:20260220T150000
DTEND;TZID=America/Denver:20260220T190000
DTSTAMP:20260425T180429
CREATED:20260104T192316Z
LAST-MODIFIED:20260130T202936Z
UID:10000744-1771599600-1771614000@restorationvineyards.com
SUMMARY:Wine Down Friday - Hunger Tech
DESCRIPTION:Join us for our weekly “Wine Down” Friday featuring Hunger Tech Food Truck this week.  They are a specialize in smash burgers and gourmet hot dogs.  We also offer a Happy Hour from 4pm-6pm with select wines by the glass available at a discount. Bottomless S’mores offered for just $5 per person \n‘
URL:https://restorationvineyards.com/event/wine-down-friday-hunger-tech/2026-02-20/
LOCATION:Restoration Vineyards Tasting Room\, 3594 E 1/2 Rd\, Palisade\, CO\, 81526\, United States
CATEGORIES:Food Truck
ATTACH;FMTTYPE=image/png:https://restorationvineyards.com/wp-content/uploads/2026/01/Hunger-Tech-Wine-Down-Fridays.png
END:VEVENT
BEGIN:VEVENT
DTSTART;TZID=America/Denver:20260221T110000
DTEND;TZID=America/Denver:20260221T170000
DTSTAMP:20260425T180429
CREATED:20260221T193029Z
LAST-MODIFIED:20260221T193029Z
UID:10000756-1771671600-1771693200@restorationvineyards.com
SUMMARY:Panini Junction
DESCRIPTION:Serving panini sandwiches in Grand Junction and the surrounding area!
URL:https://restorationvineyards.com/event/panini-junction/
LOCATION:Restoration Vineyards Tasting Room\, 3594 E 1/2 Rd\, Palisade\, CO\, 81526\, United States
CATEGORIES:Food Truck
ATTACH;FMTTYPE=image/jpeg:https://restorationvineyards.com/wp-content/uploads/2024/05/440561561_122100171638301885_5776836592344187104_n.jpg
END:VEVENT
BEGIN:VEVENT
DTSTART;TZID=America/Denver:20260227T150000
DTEND;TZID=America/Denver:20260227T190000
DTSTAMP:20260425T180429
CREATED:20260104T192316Z
LAST-MODIFIED:20260130T202936Z
UID:10000745-1772204400-1772218800@restorationvineyards.com
SUMMARY:Wine Down Friday - Hunger Tech
DESCRIPTION:Join us for our weekly “Wine Down” Friday featuring Hunger Tech Food Truck this week.  They are a specialize in smash burgers and gourmet hot dogs.  We also offer a Happy Hour from 4pm-6pm with select wines by the glass available at a discount. Bottomless S’mores offered for just $5 per person \n‘
URL:https://restorationvineyards.com/event/wine-down-friday-hunger-tech/2026-02-27/
LOCATION:Restoration Vineyards Tasting Room\, 3594 E 1/2 Rd\, Palisade\, CO\, 81526\, United States
CATEGORIES:Food Truck
ATTACH;FMTTYPE=image/png:https://restorationvineyards.com/wp-content/uploads/2026/01/Hunger-Tech-Wine-Down-Fridays.png
END:VEVENT
BEGIN:VEVENT
DTSTART;TZID=America/Denver:20260228T110000
DTEND;TZID=America/Denver:20260228T170000
DTSTAMP:20260425T180429
CREATED:20260130T202801Z
LAST-MODIFIED:20260130T202802Z
UID:10000737-1772276400-1772298000@restorationvineyards.com
SUMMARY:Hunger Tech Food Truck
DESCRIPTION:
URL:https://restorationvineyards.com/event/hunger-tech-food-truck-3-2/2026-02-28/
LOCATION:Restoration Vineyards Tasting Room\, 3594 E 1/2 Rd\, Palisade\, CO\, 81526\, United States
CATEGORIES:Food Truck
ATTACH;FMTTYPE=image/jpeg:https://restorationvineyards.com/wp-content/uploads/2024/07/376275114_122116956536022756_3696008875586786850_n.jpg
END:VEVENT
END:VCALENDAR