BEGIN:VCALENDAR
VERSION:2.0
PRODID:-//Restoration Vineyards - ECPv6.15.20//NONSGML v1.0//EN
CALSCALE:GREGORIAN
METHOD:PUBLISH
X-ORIGINAL-URL:https://restorationvineyards.com
X-WR-CALDESC:Events for Restoration Vineyards
REFRESH-INTERVAL;VALUE=DURATION:PT1H
X-Robots-Tag:noindex
X-PUBLISHED-TTL:PT1H
BEGIN:VTIMEZONE
TZID:America/Denver
BEGIN:DAYLIGHT
TZOFFSETFROM:-0700
TZOFFSETTO:-0600
TZNAME:MDT
DTSTART:20230312T090000
END:DAYLIGHT
BEGIN:STANDARD
TZOFFSETFROM:-0600
TZOFFSETTO:-0700
TZNAME:MST
DTSTART:20231105T080000
END:STANDARD
BEGIN:DAYLIGHT
TZOFFSETFROM:-0700
TZOFFSETTO:-0600
TZNAME:MDT
DTSTART:20240310T090000
END:DAYLIGHT
BEGIN:STANDARD
TZOFFSETFROM:-0600
TZOFFSETTO:-0700
TZNAME:MST
DTSTART:20241103T080000
END:STANDARD
BEGIN:DAYLIGHT
TZOFFSETFROM:-0700
TZOFFSETTO:-0600
TZNAME:MDT
DTSTART:20250309T090000
END:DAYLIGHT
BEGIN:STANDARD
TZOFFSETFROM:-0600
TZOFFSETTO:-0700
TZNAME:MST
DTSTART:20251102T080000
END:STANDARD
BEGIN:DAYLIGHT
TZOFFSETFROM:-0700
TZOFFSETTO:-0600
TZNAME:MDT
DTSTART:20260308T090000
END:DAYLIGHT
BEGIN:STANDARD
TZOFFSETFROM:-0600
TZOFFSETTO:-0700
TZNAME:MST
DTSTART:20261101T080000
END:STANDARD
BEGIN:DAYLIGHT
TZOFFSETFROM:-0700
TZOFFSETTO:-0600
TZNAME:MDT
DTSTART:20270314T090000
END:DAYLIGHT
BEGIN:STANDARD
TZOFFSETFROM:-0600
TZOFFSETTO:-0700
TZNAME:MST
DTSTART:20271107T080000
END:STANDARD
END:VTIMEZONE
BEGIN:VEVENT
DTSTART;TZID=America/Denver:20260418T110000
DTEND;TZID=America/Denver:20260418T170000
DTSTAMP:20260422T081229
CREATED:20260307T205153Z
LAST-MODIFIED:20260307T205153Z
UID:10000774-1776510000-1776531600@restorationvineyards.com
SUMMARY:Barrel into Spring
DESCRIPTION:Barrel into Spring returns April 17 & 18 at seven wineries in Palisade! Enjoy barrel samples\, food\, discounts\, and fun in the Grand Valley! \n\n\n\n\nBarrel into Spring returns to Palisade on April 17 from 2:00–7:00 PM and April 18 from 11:00 AM–5:00 PM\, inviting guests to explore Colorado wine country at its most vibrant. \nThis self-guided\, two-day experience features seven participating wineries\, where attendees will enjoy curated food and wine samples\, exclusive discounts on wine and other products\, and a relaxed springtime atmosphere. \nNew this year\, guests will use a digital passport\, making it easier than ever to track winery visits and engage with each stop along the way. Participants will check in at their preassigned starting winery to pick up their tasting glass and wristband\, then follow the digital passport as they tour the region at their own pace. \nGuests who complete all eight winery check-ins by the end of the weekend will be entered into a drawing to win a free case of Colorado wine—the perfect way to toast a successful Barrel into Spring. \nParticipating Wineries: \n\nBookcliff Vineyards\nMafia Princess Wines\nRestoration Vineyards Ft. Aspen Peak Cellars\nTalon Wines Ft. Blanchard Famile Wines\nTerraVin Cellars\nWhitewater Hill Vineyards\nThe Peachfork ft. LaNoue DuBois Winery\n\nTickets are $85 per person. All proceeds benefit CAVE\, Colorado’s non-profit for winemaking and grape growing. \nImportant Info: \n\nMust be 21+ with valid ID to attend.\nDesignated Driver tickets do not include wine tastings but offer non-alcoholic beverage options at each winery.\nDesignated Drivers will receive a different wristband and a CAVE water bottle.\nTickets are non-refundable.\nNo children or babies allowed.\nResponsible wine service will be enforced—intoxicated guests will be refused service.\n\nFor lodging and transportation options\, or more details\, visit our website. We look forward to raising a glass with you! \n*Please be aware of those around you as you wait at the tasting bar for your sample\, make room for others to enjoy the experience as well. \n*We recommend limiting the number of wines you sample at each winery and we encourage you to take advantage of dump buckets provided for excess wine. \n\n\nPurchase Tickets Now
URL:https://restorationvineyards.com/event/barrel-into-spring-2/2026-04-18/
LOCATION:Restoration Vineyards Tasting Room\, 3594 E 1/2 Rd\, Palisade\, CO\, 81526\, United States
CATEGORIES:Festival,Ticketed Event,Wine Tasting
ATTACH;FMTTYPE=image/jpeg:https://restorationvineyards.com/wp-content/uploads/2026/03/BarrelIntoSpring_April_dark_2026.jpg
END:VEVENT
BEGIN:VEVENT
DTSTART;TZID=America/Denver:20260417T140000
DTEND;TZID=America/Denver:20260417T190000
DTSTAMP:20260422T081229
CREATED:20260307T205153Z
LAST-MODIFIED:20260307T205153Z
UID:10000773-1776434400-1776452400@restorationvineyards.com
SUMMARY:Barrel into Spring
DESCRIPTION:Barrel into Spring returns April 17 & 18 at seven wineries in Palisade! Enjoy barrel samples\, food\, discounts\, and fun in the Grand Valley! \n\n\n\n\nBarrel into Spring returns to Palisade on April 17 from 2:00–7:00 PM and April 18 from 11:00 AM–5:00 PM\, inviting guests to explore Colorado wine country at its most vibrant. \nThis self-guided\, two-day experience features seven participating wineries\, where attendees will enjoy curated food and wine samples\, exclusive discounts on wine and other products\, and a relaxed springtime atmosphere. \nNew this year\, guests will use a digital passport\, making it easier than ever to track winery visits and engage with each stop along the way. Participants will check in at their preassigned starting winery to pick up their tasting glass and wristband\, then follow the digital passport as they tour the region at their own pace. \nGuests who complete all eight winery check-ins by the end of the weekend will be entered into a drawing to win a free case of Colorado wine—the perfect way to toast a successful Barrel into Spring. \nParticipating Wineries: \n\nBookcliff Vineyards\nMafia Princess Wines\nRestoration Vineyards Ft. Aspen Peak Cellars\nTalon Wines Ft. Blanchard Famile Wines\nTerraVin Cellars\nWhitewater Hill Vineyards\nThe Peachfork ft. LaNoue DuBois Winery\n\nTickets are $85 per person. All proceeds benefit CAVE\, Colorado’s non-profit for winemaking and grape growing. \nImportant Info: \n\nMust be 21+ with valid ID to attend.\nDesignated Driver tickets do not include wine tastings but offer non-alcoholic beverage options at each winery.\nDesignated Drivers will receive a different wristband and a CAVE water bottle.\nTickets are non-refundable.\nNo children or babies allowed.\nResponsible wine service will be enforced—intoxicated guests will be refused service.\n\nFor lodging and transportation options\, or more details\, visit our website. We look forward to raising a glass with you! \n*Please be aware of those around you as you wait at the tasting bar for your sample\, make room for others to enjoy the experience as well. \n*We recommend limiting the number of wines you sample at each winery and we encourage you to take advantage of dump buckets provided for excess wine. \n\n\nPurchase Tickets Now
URL:https://restorationvineyards.com/event/barrel-into-spring-2/2026-04-17/
LOCATION:Restoration Vineyards Tasting Room\, 3594 E 1/2 Rd\, Palisade\, CO\, 81526\, United States
CATEGORIES:Festival,Ticketed Event,Wine Tasting
ATTACH;FMTTYPE=image/jpeg:https://restorationvineyards.com/wp-content/uploads/2026/03/BarrelIntoSpring_April_dark_2026.jpg
END:VEVENT
BEGIN:VEVENT
DTSTART;TZID=America/Denver:20250517T110000
DTEND;TZID=America/Denver:20250517T200000
DTSTAMP:20260422T081229
CREATED:20250220T232952Z
LAST-MODIFIED:20250220T232952Z
UID:10000415-1747479600-1747512000@restorationvineyards.com
SUMMARY:Sip into Spring Wine Festival
DESCRIPTION:Join us for the 5th Annual Sip into Spring: A Celebration of Colorado Wine Hosted at Orchard River View off of Highway 6. \n$70 per ticket \nFind More information at https://sipintospringcolorado.mailchimpsites.com/ \nBuy Tickets
URL:https://restorationvineyards.com/event/sip-into-spring-wine-festival/
LOCATION:Orchard River View Event Center\, 3926 HWY 6 &\, 24\, Palisade\, CO\, 81526\, United States
CATEGORIES:Festival,Food Truck,Live Events,Live Music,Wine Tasting
ATTACH;FMTTYPE=image/png:https://restorationvineyards.com/wp-content/uploads/2022/03/Untitled-design-1.png
END:VEVENT
BEGIN:VEVENT
DTSTART;TZID=America/Denver:20250216T140000
DTEND;TZID=America/Denver:20250216T170000
DTSTAMP:20260422T081229
CREATED:20250112T232625Z
LAST-MODIFIED:20250211T215908Z
UID:10000406-1739714400-1739725200@restorationvineyards.com
SUMMARY:The Art of Blending: A Hands on Experience
DESCRIPTION:The Art of Blending: A Hands-On Experience \nUnleash your inner vintner and join us for an unforgettable wine blending experience on either Saturday\, February 15th\, at 11am or 3pm OR Sunday\, February 16th\, at 2 PM! This interactive event invites wine lovers of all levels to craft their own custom blend. Guided by our fantastic winemaker\, you’ll explore the art and science of winemaking\, sample a variety of single-origin wines\, and learn how to balance flavors to create your perfect pour. \nBut that’s not all—your blend could be the one Restoration brings to life! All blends will be judged\, and the winning creation will be produced by Restoration\, with the winner’s name featured on the label as a special attribution. Plus\, the winner will take home a case of their blend to share and enjoy! \nEvent Highlights:\n-Hands-on blending session\n-Bottle of your custom blend to take home\n-Guided tastings and expert tips\n-Light bites to complement your wine journey\n-Your chance to create the next Restoration Vineyards Red blend\n-Win a case of your custom creation and have your name on the label \nWhether you’re a wine novice or a seasoned connoisseur\, this experience promises an afternoon of creativity\, connection\, and\, of course\, amazing wine. \nSpace is limited\, so reserve your spot today and toast to the joy of blending! \n$125/person – $25 deposit required to book\, remaining balance will be due at the event.  Want to participate as a couple? Call our tasting room for more information. \nReserve Now
URL:https://restorationvineyards.com/event/the-art-of-blending-a-hands-on-experience/2025-02-16/
LOCATION:Restoration Vineyards Tasting Room\, 3594 E 1/2 Rd\, Palisade\, CO\, 81526\, United States
CATEGORIES:Festival,Fundraiser,Wine Tasting
ATTACH;FMTTYPE=image/jpeg:https://restorationvineyards.com/wp-content/uploads/2025/01/20200223_213239670_iOS-scaled.jpg
ORGANIZER;CN="Restoration Vineyards":MAILTO:sbrauns@restorationvineyards.com
END:VEVENT
BEGIN:VEVENT
DTSTART;TZID=America/Denver:20250215T150000
DTEND;TZID=America/Denver:20250215T180000
DTSTAMP:20260422T081229
CREATED:20250112T232625Z
LAST-MODIFIED:20250211T215908Z
UID:10000414-1739631600-1739642400@restorationvineyards.com
SUMMARY:The Art of Blending: A Hands on Experience
DESCRIPTION:The Art of Blending: A Hands-On Experience \nUnleash your inner vintner and join us for an unforgettable wine blending experience on either Saturday\, February 15th\, at 11am or 3pm OR Sunday\, February 16th\, at 2 PM! This interactive event invites wine lovers of all levels to craft their own custom blend. Guided by our fantastic winemaker\, you’ll explore the art and science of winemaking\, sample a variety of single-origin wines\, and learn how to balance flavors to create your perfect pour. \nBut that’s not all—your blend could be the one Restoration brings to life! All blends will be judged\, and the winning creation will be produced by Restoration\, with the winner’s name featured on the label as a special attribution. Plus\, the winner will take home a case of their blend to share and enjoy! \nEvent Highlights:\n-Hands-on blending session\n-Bottle of your custom blend to take home\n-Guided tastings and expert tips\n-Light bites to complement your wine journey\n-Your chance to create the next Restoration Vineyards Red blend\n-Win a case of your custom creation and have your name on the label \nWhether you’re a wine novice or a seasoned connoisseur\, this experience promises an afternoon of creativity\, connection\, and\, of course\, amazing wine. \nSpace is limited\, so reserve your spot today and toast to the joy of blending! \n$125/person – $25 deposit required to book\, remaining balance will be due at the event.  Want to participate as a couple? Call our tasting room for more information. \nReserve Now
URL:https://restorationvineyards.com/event/the-art-of-blending-a-hands-on-experience/2025-02-15/2/
LOCATION:Restoration Vineyards Tasting Room\, 3594 E 1/2 Rd\, Palisade\, CO\, 81526\, United States
CATEGORIES:Festival,Fundraiser,Wine Tasting
ATTACH;FMTTYPE=image/jpeg:https://restorationvineyards.com/wp-content/uploads/2025/01/20200223_213239670_iOS-scaled.jpg
ORGANIZER;CN="Restoration Vineyards":MAILTO:sbrauns@restorationvineyards.com
END:VEVENT
BEGIN:VEVENT
DTSTART;TZID=America/Denver:20250215T110000
DTEND;TZID=America/Denver:20250215T140000
DTSTAMP:20260422T081229
CREATED:20250112T232625Z
LAST-MODIFIED:20250211T215908Z
UID:10000413-1739617200-1739628000@restorationvineyards.com
SUMMARY:The Art of Blending: A Hands on Experience
DESCRIPTION:The Art of Blending: A Hands-On Experience \nUnleash your inner vintner and join us for an unforgettable wine blending experience on either Saturday\, February 15th\, at 11am or 3pm OR Sunday\, February 16th\, at 2 PM! This interactive event invites wine lovers of all levels to craft their own custom blend. Guided by our fantastic winemaker\, you’ll explore the art and science of winemaking\, sample a variety of single-origin wines\, and learn how to balance flavors to create your perfect pour. \nBut that’s not all—your blend could be the one Restoration brings to life! All blends will be judged\, and the winning creation will be produced by Restoration\, with the winner’s name featured on the label as a special attribution. Plus\, the winner will take home a case of their blend to share and enjoy! \nEvent Highlights:\n-Hands-on blending session\n-Bottle of your custom blend to take home\n-Guided tastings and expert tips\n-Light bites to complement your wine journey\n-Your chance to create the next Restoration Vineyards Red blend\n-Win a case of your custom creation and have your name on the label \nWhether you’re a wine novice or a seasoned connoisseur\, this experience promises an afternoon of creativity\, connection\, and\, of course\, amazing wine. \nSpace is limited\, so reserve your spot today and toast to the joy of blending! \n$125/person – $25 deposit required to book\, remaining balance will be due at the event.  Want to participate as a couple? Call our tasting room for more information. \nReserve Now
URL:https://restorationvineyards.com/event/the-art-of-blending-a-hands-on-experience/2025-02-15/1/
LOCATION:Restoration Vineyards Tasting Room\, 3594 E 1/2 Rd\, Palisade\, CO\, 81526\, United States
CATEGORIES:Festival,Fundraiser,Wine Tasting
ATTACH;FMTTYPE=image/jpeg:https://restorationvineyards.com/wp-content/uploads/2025/01/20200223_213239670_iOS-scaled.jpg
ORGANIZER;CN="Restoration Vineyards":MAILTO:sbrauns@restorationvineyards.com
END:VEVENT
BEGIN:VEVENT
DTSTART;TZID=America/Denver:20240504T110000
DTEND;TZID=America/Denver:20240504T200000
DTSTAMP:20260422T081229
CREATED:20240302T183801Z
LAST-MODIFIED:20240302T184025Z
UID:10000203-1714820400-1714852800@restorationvineyards.com
SUMMARY:Sip into Spring Wine Festival
DESCRIPTION:Join us for the 4th Annual Sip into Spring: A Celebration of Colorado Wine Hosted at Orchard River View off of Highway 6. \n$70 per ticket \nFind More information at https://sipintospringcolorado.mailchimpsites.com/ \nBuy Tickets
URL:https://restorationvineyards.com/event/2000/
LOCATION:Orchard River View Event Center\, 3926 HWY 6 &\, 24\, Palisade\, CO\, 81526\, United States
CATEGORIES:Festival,Food Truck,Live Events,Live Music,Wine Tasting
ATTACH;FMTTYPE=image/png:https://restorationvineyards.com/wp-content/uploads/2022/03/Untitled-design-1.png
END:VEVENT
END:VCALENDAR