BEGIN:VCALENDAR
VERSION:2.0
PRODID:-//Restoration Vineyards - ECPv6.15.20//NONSGML v1.0//EN
CALSCALE:GREGORIAN
METHOD:PUBLISH
X-WR-CALNAME:Restoration Vineyards
X-ORIGINAL-URL:https://restorationvineyards.com
X-WR-CALDESC:Events for Restoration Vineyards
REFRESH-INTERVAL;VALUE=DURATION:PT1H
X-Robots-Tag:noindex
X-PUBLISHED-TTL:PT1H
BEGIN:VTIMEZONE
TZID:America/Denver
BEGIN:DAYLIGHT
TZOFFSETFROM:-0700
TZOFFSETTO:-0600
TZNAME:MDT
DTSTART:20240310T090000
END:DAYLIGHT
BEGIN:STANDARD
TZOFFSETFROM:-0600
TZOFFSETTO:-0700
TZNAME:MST
DTSTART:20241103T080000
END:STANDARD
BEGIN:DAYLIGHT
TZOFFSETFROM:-0700
TZOFFSETTO:-0600
TZNAME:MDT
DTSTART:20250309T090000
END:DAYLIGHT
BEGIN:STANDARD
TZOFFSETFROM:-0600
TZOFFSETTO:-0700
TZNAME:MST
DTSTART:20251102T080000
END:STANDARD
BEGIN:DAYLIGHT
TZOFFSETFROM:-0700
TZOFFSETTO:-0600
TZNAME:MDT
DTSTART:20260308T090000
END:DAYLIGHT
BEGIN:STANDARD
TZOFFSETFROM:-0600
TZOFFSETTO:-0700
TZNAME:MST
DTSTART:20261101T080000
END:STANDARD
END:VTIMEZONE
BEGIN:VEVENT
DTSTART;TZID=America/Denver:20250816T130000
DTEND;TZID=America/Denver:20250816T170000
DTSTAMP:20260423T162947
CREATED:20250425T173741Z
LAST-MODIFIED:20250425T181347Z
UID:10000678-1755349200-1755363600@restorationvineyards.com
SUMMARY:Kid Caravan - Band in the Barrel Music Series
DESCRIPTION:RESERVE NOWImportant Details: \nSeating: Guests are encouraged to bring blankets or lawn chairs to relax and enjoy the wine\, music\, and food. While we’ll do our best to provide shaded spots\, they cannot be guaranteed. \nReservations: Your reservation guarantees venue admission and a 90-minute seating time. Choose between two time slots: 1:00–2:30 PM or 3:30–5:00 PM. \nParking: Parking is limited\, so please carpool if possible. \nFood & Drink Policy: Outside food and alcohol are not permitted. We have at least two fantastic food trucks on-site during each concert to satisfy your taste buds! Check out the available options for this concert below. Additionally\, only wine purchased on-site may be consumed. \nService Notice: During live music\, wine will be available by the bottle or glass only. Tastings will not be offered to ensure we can serve all our guests efficiently. \nKid Caravan was born on the campus of Colorado Mesa University during the 2022/2023 school year\, when a spontaneous jam session brought together five students from different walks of life. Max\, a collaborative pianist; Erik\, a CMU graduate and music mentor; Sydnee and Charles\, first-year music students; and Savvy\, a soccer player with a passion for rhythm—all connected through a shared love of music. What started as a casual get-together quickly turned into something bigger when they decided on a whim to enter CMU’s Battle of the Bands. After just a few short rehearsals\, they took home the win. \nThat unexpected victory launched the group into performances at the CMU Homecoming Bonfire and Spring Concert\, and sparked the beginning of something special. With original songs led by frontwoman Sydnee Longoria and a mix of talent\, creativity\, and undeniable chemistry\, the band began building a solid setlist and an even stronger bond. Describing themselves as “just a group of people who love music and sharing it with others\,” Kid Caravan continues to chase the groove\, fueled by friendship\, gratitude\, and a deep love for the craft. Keep an eye out for their next show—good vibes guaranteed. \nRESERVE NOWWelcome to Bonfire Oyster Co.\, your premier destination for unparalleled oyster and seafood in Colorado. We are passionate about delivering an extraordinary culinary experience centered around oysters. At Bonfire\, we pride ourselves on our unique approach to seafood\, through our signature Wandering Raw Bar\, providing you and your guests with an interactive and unforgettable event. \nGrand Valley’s premier Asian Fusion food truck
URL:https://restorationvineyards.com/event/kid-caravan-band-in-the-barrel-music-series/
LOCATION:Restoration Vineyards Tasting Room\, 3594 E 1/2 Rd\, Palisade\, CO\, 81526\, United States
CATEGORIES:Food Truck,Live Music
ATTACH;FMTTYPE=image/jpeg:https://restorationvineyards.com/wp-content/uploads/2025/04/421569037_122106289532191251_2160381189663297282_n.jpg
END:VEVENT
END:VCALENDAR